Workbook

Sheet 원가계산서
B1: 공 사 원 가 계 산 서
B2: 공사명 : 원내대표실 시설공사 | F2: 금액 : 일천삼백사십사만오천원(￦13,445,000)
B3: 비 목 | E3: 금 액 | F3: 구 성 비 | G3: 비 고
A4: A1 | B4: 순 공 사 원 가 | C4: 재 료 비 | D4: 직 접 재 료 비 | E4: =TRUNC(공종별집계표!F5, 0) -> 4819163
A5: A2 | D5: 간 접 재 료 비 | E5: 0
A6: A3 | D6: 작업설, 부산물(△) | E6: 0
A7: AS | D7: [ 소 계 ] | E7: =TRUNC(E4+E5-E6, 0) -> 4819163
A8: B1 | C8: 노 무 비 | D8: 직 접 노 무 비 | E8: =TRUNC(공종별집계표!H5, 0) -> 4546743
A9: B2 | D9: 간 접 노 무 비 | E9: =TRUNC(E8*0.096, 0) -> 436487 | F9: 직접노무비 * 9.6%
A10: BS | D10: [ 소 계 ] | E10: =TRUNC(E8+E9, 0) -> 4983230
A11: C2 | C11: 경 비 | D11: 기 계 경 비 | E11: =TRUNC(공종별집계표!J5, 0) -> 46914
A12: C4 | D12: 산 재 보 험 료 | E12: =TRUNC(E10*0.038, 0) -> 189362 | F12: 노무비 * 3.8%
A13: C5 | D13: 고 용 보 험 료 | E13: =TRUNC(E10*0.0087, 0) -> 43354 | F13: 노무비 * 0.87%
A14: C6 | D14: 국민 건강 보험료 | E14: =TRUNC(E8*0, 0) -> 0 | F14: 직접노무비 * 0% | G14: 1개월이상
A15: C7 | D15: 국민 연금 보험료 | E15: =TRUNC(E8*0, 0) -> 0 | F15: 직접노무비 * 0% | G15: 1개월이상
A16: CB | D16: 노인장기요양보험료 | E16: =TRUNC(E14*0, 0) -> 0 | F16: 건강보험료 * 0% | G16: 1개월이상
A17: C8 | D17: 퇴직 공제 부금비 | E17: =TRUNC(E8*0, 0) -> 0 | F17: 직접노무비 * 0% | G17: 3억이상
A18: CA | D18: 산업안전보건관리비 | E18: =TRUNC((E7+E8)*0, 0) -> 0 | F18: (재료비+직노) * 0% | G18: 4000만원 이상
A19: CH | D19: 환 경 보 전 비 | E19: =TRUNC((E7+E8+E11)*0.003, 0) -> 28238 | F19: (재료비+직노+기계경비) * 0.3%
A20: CG | D20: 기 타 경 비 | E20: =TRUNC((E7+E10)*0.052, 0) -> 509724 | F20: (재료비+노무비) * 5.2%
A21: CK | D21: 하도급지급보증수수료 | E21: =TRUNC((E7+E8+E11)*0, 0) -> 0 | F21: (재료비+직노+기계경비) * 0%
A22: CL | D22: 건설기계대여금지급보증서발급수수료 | E22: =TRUNC((E7+E8+E11)*0, 0) -> 0 | F22: (재료비+직노+기계경비) * 0%
A23: CS | D23: [ 소 계 ] | E23: =TRUNC(E11+E12+E13+E14+E15+E17+E18+E16+E20+E19+E21+E22, 0) -> 817592
A24: S1 | B24: 계 | E24: =TRUNC(E7+E10+E23, 0) -> 10619985
A25: D1 | B25: 일 반 관 리 비 | E25: =TRUNC(E24*0.06, 0) -> 637199 | F25: 계 * 6%
A26: D2 | B26: 이 윤 | E26: =TRUNC((E10+E23+E25)*0.15-159, 0) -> 965544 | F26: (노무비+경비+일반관리비) * 15%
A27: D9 | B27: 공 급 가 액 | E27: =TRUNC(E24+E25+E26, 0) -> 12222728
A28: DB | B28: 부 가 가 치 세 | E28: =TRUNC(E27*0.1, 0) -> 1222272 | F28: 공급가액 * 10%
A29: DH | B29: 도 급 액 | E29: =TRUNC(E27+E28, 0) -> 13445000
A30: S2 | B30: 총 공 사 비 | E30: =TRUNC(E29, 0) -> 13445000

Sheet 공종별집계표
A1: 공 종 별 집 계 표
A2: [ 원내대표실 시설공사 ]
A3: 품 명 | B3: 규 격 | C3: 단위 | D3: 수량 | E3: 재 료 비 | G3: 노 무 비 | I3: 경 비 | K3: 합 계 | M3: 비 고 | N3: 공종코드 | O3: 변수 | P3: 상위공종 | Q3: 공종구분 | R3: 공종레벨 | S3: 공종소계 | T3: 원가계산서 연결금액
E4: 단 가 | F4: 금 액 | G4: 단 가 | H4: 금 액 | I4: 단 가 | J4: 금 액 | K4: 단 가 | L4: 금 액
A5: 01 전북도청 의회청사 2층 사무실 리모델링 | D5: 1 | E5: =F6 -> 4819163 | F5: =E5*D5 -> 4819163 | G5: =H6 -> 4546743 | H5: =G5*D5 -> 4546743 | I5: =J6 -> 46914 | J5: =I5*D5 -> 46914 | K5: =E5+G5+I5 -> 9412820 | L5: =F5+H5+J5 -> 9412820 | N5: 01 | R5: 1
A6: 0101 도청의회청사 | D6: 1 | E6: =F7+F8+F9+F10 -> 4819163 | F6: =E6*D6 -> 4819163 | G6: =H7+H8+H9+H10 -> 4546743 | H6: =G6*D6 -> 4546743 | I6: =J7+J8+J9+J10 -> 46914 | J6: =I6*D6 -> 46914 | K6: =E6+G6+I6 -> 9412820 | L6: =F6+H6+J6 -> 9412820 | N6: 0101 | P6: 01 | R6: 2
A7: 010101 가 설 공 사 | D7: 1 | E7: =공종별내역서!F29 -> 56552 | F7: =E7*D7 -> 56552 | G7: =공종별내역서!H29 -> 509374 | H7: =G7*D7 -> 509374 | I7: =공종별내역서!J29 -> 0 | J7: =I7*D7 -> 0 | K7: =E7+G7+I7 -> 565926 | L7: =F7+H7+J7 -> 565926 | N7: 010101 | P7: 0101 | R7: 3
A8: 010102 목공사및수장공사 | D8: 1 | E8: =공종별내역서!F55 -> 3673899 | F8: =E8*D8 -> 3673899 | G8: =공종별내역서!H55 -> 3743867 | H8: =G8*D8 -> 3743867 | I8: =공종별내역서!J55 -> 46808 | J8: =I8*D8 -> 46808 | K8: =E8+G8+I8 -> 7464574 | L8: =F8+H8+J8 -> 7464574 | N8: 010102 | P8: 0101 | R8: 3
A9: 010103 창호및유리공사 | D9: 1 | E9: =공종별내역서!F81 -> 1042920 | F9: =E9*D9 -> 1042920 | G9: =공종별내역서!H81 -> 5304 | H9: =G9*D9 -> 5304 | I9: =공종별내역서!J81 -> 106 | J9: =I9*D9 -> 106 | K9: =E9+G9+I9 -> 1048330 | L9: =F9+H9+J9 -> 1048330 | N9: 010103 | P9: 0101 | R9: 3
A10: 010104 도 장 공 사 | D10: 1 | E10: =공종별내역서!F107 -> 45792 | F10: =E10*D10 -> 45792 | G10: =공종별내역서!H107 -> 288198 | H10: =G10*D10 -> 288198 | I10: =공종별내역서!J107 -> 0 | J10: =I10*D10 -> 0 | K10: =E10+G10+I10 -> 333990 | L10: =F10+H10+J10 -> 333990 | N10: 010104 | P10: 0101 | R10: 3
A28: [ 합 계 ] | F28: =F5 -> 4819163 | H28: =H5 -> 4546743 | J28: =J5 -> 46914 | L28: =L5 -> 9412820

Sheet 공종별내역서
A1: [ 원내대표실 시설공사 ]
A2: 품 명 | B2: 규 격 | C2: 단위 | D2: 수량 | E2: 재 료 비 | G2: 노 무 비 | I2: 경 비 | K2: 합 계 | M2: 비 고 | N2: 품목코드 | O2: 변수 | P2: 설정 | Q2: 공종코드 | R2: 일위 | S2: 단산 | T2: 자재 | U2: 손료적용 | V2: 손료저장 | W2: 적용율 | X2: JUK1 | Y2: JUK2 | Z2: JUK3 | AA2: JUK4 | AB2: JUK5 | AC2: JUK6 | AD2: JUK7 | AE2: JUK8 | AF2: JUK9 | AG2: JUK10 | AH2: JUK11 | AI2: JUK12 | AJ2: JUK13 | AK2: JUK14 | AL2: JUK15 | AM2: JUK16 | AN2: JUK17 | AO2: JUK18 | AP2: JUK19 | AQ2: JUK20 | AR2: 자재구분 | AS2: 공종구분 | AT2: 공종레벨 | AU2: 공종+자재 | AV2: 고유번호
E3: 단 가 | F3: 금 액 | G3: 단 가 | H3: 금 액 | I3: 단 가 | J3: 금 액 | K3: 단 가 | L3: 금 액
A4: 010101 가 설 공 사 | Q4: 010101
A5: 강관 조립말비계(이동식) | B5: 높이 2m, 3개월 | C5: 대 | D5: 2 | E5: =TRUNC(일위대가목록!E4,0) -> 28276 | F5: =TRUNC(E5*D5, 0) -> 56552 | G5: =TRUNC(일위대가목록!F4,0) -> 55172 | H5: =TRUNC(G5*D5, 0) -> 110344 | I5: =TRUNC(일위대가목록!G4,0) -> 0 | J5: =TRUNC(I5*D5, 0) -> 0 | K5: =TRUNC(E5+G5+I5, 0) -> 83448 | L5: =TRUNC(F5+H5+J5, 0) -> 166896 | N5: 5F0324F1F5D57C380622B046E9220B | Q5: 010101 | R5: T | S5: F | T5: F | AU5: 0101015F0324F1F5D57C380622B046E9220B | AV5: 4
A6: 건축물현장정리 | B6: 철근콘크리트조 30% | C6: M2 | D6: 94 | E6: =TRUNC(일위대가목록!E5,0) -> 0 | F6: =TRUNC(E6*D6, 0) -> 0 | G6: =TRUNC(일위대가목록!F5,0) -> 4245 | H6: =TRUNC(G6*D6, 0) -> 399030 | I6: =TRUNC(일위대가목록!G5,0) -> 0 | J6: =TRUNC(I6*D6, 0) -> 0 | K6: =TRUNC(E6+G6+I6, 0) -> 4245 | L6: =TRUNC(F6+H6+J6, 0) -> 399030 | N6: 5F0324F4B53CC731F64F91E66B44FF | Q6: 010101 | R6: T | S6: F | T6: F | AU6: 0101015F0324F4B53CC731F64F91E66B44FF | AV6: 5
A29: [ 합 계 ] | F29: =SUM(F5:F28) -> 56552 | H29: =SUM(H5:H28) -> 509374 | J29: =SUM(J5:J28) -> 0 | L29: =SUM(L5:L28) -> 565926 | N29: TOTAL
A30: 010102 목공사및수장공사 | Q30: 010102
A31: 석고보드 | B31: 석고보드, 평보드, 9.5*900*1800mm(㎡) | C31: M2 | D31: 327 | E31: =TRUNC(단가대비표!O17,0) -> 1830 | F31: =TRUNC(E31*D31, 0) -> 598410 | G31: =TRUNC(단가대비표!P17,0) -> 0 | H31: =TRUNC(G31*D31, 0) -> 0 | I31: =TRUNC(단가대비표!V17,0) -> 0 | J31: =TRUNC(I31*D31, 0) -> 0 | K31: =TRUNC(E31+G31+I31, 0) -> 1830 | L31: =TRUNC(F31+H31+J31, 0) -> 598410 | N31: 5827D48755D0CF37767CEEF69F3A4839996480 | Q31: 010102 | R31: F | S31: F | T31: T | AU31: 0101025827D48755D0CF37767CEEF69F3A4839996480 | AV31: 7
A32: 벽체틀 | B32: 30*30, @300*600 | C32: M2 | D32: 66 | E32: =TRUNC(일위대가목록!E6,0) -> 1414 | F32: =TRUNC(E32*D32, 0) -> 93324 | G32: =TRUNC(일위대가목록!F6,0) -> 5195 | H32: =TRUNC(G32*D32, 0) -> 342870 | I32: =TRUNC(일위대가목록!G6,0) -> 103 | J32: =TRUNC(I32*D32, 0) -> 6798 | K32: =TRUNC(E32+G32+I32, 0) -> 6712 | L32: =TRUNC(F32+H32+J32, 0) -> 442992 | N32: 5F03A4A4459F8034862201E6C4AAF9 | Q32: 010102 | R32: T | S32: F | T32: F | AU32: 0101025F03A4A4459F8034862201E6C4AAF9 | AV32: 8
A33: 벽체틀 | B33: 75*45, @450*450 | C33: M2 | D33: 45 | E33: =TRUNC(일위대가목록!E7,0) -> 5811 | F33: =TRUNC(E33*D33, 0) -> 261495 | G33: =TRUNC(일위대가목록!F7,0) -> 5195 | H33: =TRUNC(G33*D33, 0) -> 233775 | I33: =TRUNC(일위대가목록!G7,0) -> 103 | J33: =TRUNC(I33*D33, 0) -> 4635 | K33: =TRUNC(E33+G33+I33, 0) -> 11109 | L33: =TRUNC(F33+H33+J33, 0) -> 499905 | N33: 5F03A4A4459FBD39C660DA0652BC91 | Q33: 010102 | R33: T | S33: F | T33: F | AU33: 0101025F03A4A4459FBD39C660DA0652BC91 | AV33: 9
A34: 칸막이상부보강 | B34: C-100*50*20*2.3T L=1930*2+ㅁ-50*100*2.3 L=200 | C34: 개소 | D34: 8 | E34: =TRUNC(일위대가목록!E8,0) -> 16762 | F34: =TRUNC(E34*D34, 0) -> 134096 | G34: =TRUNC(일위대가목록!F8,0) -> 91511 | H34: =TRUNC(G34*D34, 0) -> 732088 | I34: =TRUNC(일위대가목록!G8,0) -> 77 | J34: =TRUNC(I34*D34, 0) -> 616 | K34: =TRUNC(E34+G34+I34, 0) -> 108350 | L34: =TRUNC(F34+H34+J34, 0) -> 866800 | N34: 5F03F428B5302F3EE6D8F80637BC39 | Q34: 010102 | R34: T | S34: F | T34: F | AU34: 0101025F03F428B5302F3EE6D8F80637BC39 | AV34: 10
A35: 걸레받이 붙임 | B35: MDF 9T, H=90 | C35: M | D35: 57 | E35: =TRUNC(일위대가목록!E9,0) -> 3605 | F35: =TRUNC(E35*D35, 0) -> 205485 | G35: =TRUNC(일위대가목록!F9,0) -> 2301 | H35: =TRUNC(G35*D35, 0) -> 131157 | I35: =TRUNC(일위대가목록!G9,0) -> 46 | J35: =TRUNC(I35*D35, 0) -> 2622 | K35: =TRUNC(E35+G35+I35, 0) -> 5952 | L35: =TRUNC(F35+H35+J35, 0) -> 339264 | N35: 5F03C4F275842834669F7F56DCA6EF | Q35: 010102 | R35: T | S35: F | T35: F | AU35: 0101025F03C4F275842834669F7F56DCA6EF | AV35: 11
A36: 중간몰딩 붙임 | B36: MDF18T, W=90 | C36: M | D36: 57 | E36: =TRUNC(일위대가목록!E10,0) -> 4670 | F36: =TRUNC(E36*D36, 0) -> 266190 | G36: =TRUNC(일위대가목록!F10,0) -> 2301 | H36: =TRUNC(G36*D36, 0) -> 131157 | I36: =TRUNC(일위대가목록!G10,0) -> 46 | J36: =TRUNC(I36*D36, 0) -> 2622 | K36: =TRUNC(E36+G36+I36, 0) -> 7017 | L36: =TRUNC(F36+H36+J36, 0) -> 399969 | N36: 5F03C4F275842834669F7F56DCA6EC | Q36: 010102 | R36: T | S36: F | T36: F | AU36: 0101025F03C4F275842834669F7F56DCA6EC | AV36: 24
A37: 천정몰딩 붙임 | B37: MDF 12T, W=90 | C37: M | D37: 61 | E37: =TRUNC(일위대가목록!E11,0) -> 3779 | F37: =TRUNC(E37*D37, 0) -> 230519 | G37: =TRUNC(일위대가목록!F11,0) -> 2301 | H37: =TRUNC(G37*D37, 0) -> 140361 | I37: =TRUNC(일위대가목록!G11,0) -> 46 | J37: =TRUNC(I37*D37, 0) -> 2806 | K37: =TRUNC(E37+G37+I37, 0) -> 6126 | L37: =TRUNC(F37+H37+J37, 0) -> 373686 | N37: 5F03C4F275842834669F7F56DCA6ED | Q37: 010102 | R37: T | S37: F | T37: F | AU37: 0101025F03C4F275842834669F7F56DCA6ED | AV37: 12
A38: 출입문몰딩 붙임 | B38: MDF18T, W=90 | C38: M | D38: 22 | E38: =TRUNC(일위대가목록!E12,0) -> 4130 | F38: =TRUNC(E38*D38, 0) -> 90860 | G38: =TRUNC(일위대가목록!F12,0) -> 2301 | H38: =TRUNC(G38*D38, 0) -> 50622 | I38: =TRUNC(일위대가목록!G12,0) -> 46 | J38: =TRUNC(I38*D38, 0) -> 1012 | K38: =TRUNC(E38+G38+I38, 0) -> 6477 | L38: =TRUNC(F38+H38+J38, 0) -> 142494 | N38: 5F03C4F275842834669F7F56DCA6EA | Q38: 010102 | R38: T | S38: F | T38: F | AU38: 0101025F03C4F275842834669F7F56DCA6EA | AV38: 13
A39: 벽, MDF붙임 | B39: 9t 무늬목필름 | C39: M2 | D39: 53 | E39: =TRUNC(일위대가목록!E13,0) -> 33840 | F39: =TRUNC(E39*D39, 0) -> 1793520 | G39: =TRUNC(일위대가목록!F13,0) -> 9497 | H39: =TRUNC(G39*D39, 0) -> 503341 | I39: =TRUNC(일위대가목록!G13,0) -> 189 | J39: =TRUNC(I39*D39, 0) -> 10017 | K39: =TRUNC(E39+G39+I39, 0) -> 43526 | L39: =TRUNC(F39+H39+J39, 0) -> 2306878 | N39: 5F03C4F0B517C73576D47DA649F65B | Q39: 010102 | R39: T | S39: F | T39: F | AU39: 0101025F03C4F0B517C73576D47DA649F65B | AV39: 14
A40: 텍스설치 - 시공비 | C40: M2 | D40: 8 | E40: =TRUNC(일위대가목록!E14,0) -> 0 | F40: =TRUNC(E40*D40, 0) -> 0 | G40: =TRUNC(일위대가목록!F14,0) -> 8150 | H40: =TRUNC(G40*D40, 0) -> 65200 | I40: =TRUNC(일위대가목록!G14,0) -> 244 | J40: =TRUNC(I40*D40, 0) -> 1952 | K40: =TRUNC(E40+G40+I40, 0) -> 8394 | L40: =TRUNC(F40+H40+J40, 0) -> 67152 | N40: 5F03C4F0B517FC34F697E626A861FA | Q40: 010102 | R40: T | S40: F | T40: F | AU40: 0101025F03C4F0B517FC34F697E626A861FA | AV40: 15
A41: 석고판 나사 고정(바탕용) 설치비 | B41: 벽, 2겹 붙임 | C41: M2 | D41: 156 | E41: =TRUNC(일위대가목록!E15,0) -> 0 | F41: =TRUNC(E41*D41, 0) -> 0 | G41: =TRUNC(일위대가목록!F15,0) -> 8800 | H41: =TRUNC(G41*D41, 0) -> 1372800 | I41: =TRUNC(일위대가목록!G15,0) -> 88 | J41: =TRUNC(I41*D41, 0) -> 13728 | K41: =TRUNC(E41+G41+I41, 0) -> 8888 | L41: =TRUNC(F41+H41+J41, 0) -> 1386528 | N41: 5F03C4F0B5205F30F65D0DC62A43FF | Q41: 010102 | R41: T | S41: F | T41: F | AU41: 0101025F03C4F0B5205F30F65D0DC62A43FF | AV41: 16
A42: 텍스, 합판 철거(천장) | B42: 해체재 재사용 | C42: M2 | D42: 8 | E42: =TRUNC(일위대가목록!E16,0) -> 0 | F42: =TRUNC(E42*D42, 0) -> 0 | G42: =TRUNC(일위대가목록!F16,0) -> 5062 | H42: =TRUNC(G42*D42, 0) -> 40496 | I42: =TRUNC(일위대가목록!G16,0) -> 0 | J42: =TRUNC(I42*D42, 0) -> 0 | K42: =TRUNC(E42+G42+I42, 0) -> 5062 | L42: =TRUNC(F42+H42+J42, 0) -> 40496 | N42: 5F022405D5FFAE3D0616AC563F0C81 | Q42: 010102 | R42: T | S42: F | T42: F | AU42: 0101025F022405D5FFAE3D0616AC563F0C81 | AV42: 17
A55: [ 합 계 ] | F55: =SUM(F31:F54) -> 3673899 | H55: =SUM(H31:H54) -> 3743867 | J55: =SUM(J31:J54) -> 46808 | L55: =SUM(L31:L54) -> 7464574 | N55: TOTAL
A56: 010103 창호및유리공사 | Q56: 010103
A57: 도어힌지 | B57: 도어힌지, 황동, 베어링2개, 101.6*2.7mm | C57: 개 | D57: 6 | E57: =TRUNC(단가대비표!O28,0) -> 6000 | F57: =TRUNC(E57*D57, 0) -> 36000 | G57: =TRUNC(단가대비표!P28,0) -> 0 | H57: =TRUNC(G57*D57, 0) -> 0 | I57: =TRUNC(단가대비표!V28,0) -> 0 | J57: =TRUNC(I57*D57, 0) -> 0 | K57: =TRUNC(E57+G57+I57, 0) -> 6000 | L57: =TRUNC(F57+H57+J57, 0) -> 36000 | N57: 5827C4FED5A7CD3776D367E6EC1A305166FFDC | Q57: 010103 | R57: F | S57: F | T57: T | AU57: 0101035827C4FED5A7CD3776D367E6EC1A305166FFDC | AV57: 19
A58: 도어핸들 | B58: 도어핸들, 9000PB, 레바형 | C58: 조 | D58: 2 | E58: =TRUNC(단가대비표!O29,0) -> 28000 | F58: =TRUNC(E58*D58, 0) -> 56000 | G58: =TRUNC(단가대비표!P29,0) -> 0 | H58: =TRUNC(G58*D58, 0) -> 0 | I58: =TRUNC(단가대비표!V29,0) -> 0 | J58: =TRUNC(I58*D58, 0) -> 0 | K58: =TRUNC(E58+G58+I58, 0) -> 28000 | L58: =TRUNC(F58+H58+J58, 0) -> 56000 | N58: 5827C4FED5A7CD3BD682475698D1B5F38E1C12 | Q58: 010103 | R58: F | S58: F | T58: T | AU58: 0101035827C4FED5A7CD3BD682475698D1B5F38E1C12 | AV58: 20
A59: WD1[도청의회청사] | B59: 0.900 x 2.100 = 1.890 | C59: EA | D59: 2 | E59: =TRUNC(일위대가목록!E17,0) -> 475460 | F59: =TRUNC(E59*D59, 0) -> 950920 | G59: =TRUNC(일위대가목록!F17,0) -> 0 | H59: =TRUNC(G59*D59, 0) -> 0 | I59: =TRUNC(일위대가목록!G17,0) -> 0 | J59: =TRUNC(I59*D59, 0) -> 0 | K59: =TRUNC(E59+G59+I59, 0) -> 475460 | L59: =TRUNC(F59+H59+J59, 0) -> 950920 | N59: 5F03F426855076339664BAB6461F35 | Q59: 010103 | R59: T | S59: F | T59: F | AU59: 0101035F03F426855076339664BAB6461F35 | AV59: 21
A60: 도아록설치 | B60: 목재문, 재료비 별도 | C60: 개소 | D60: 2 | E60: =TRUNC(일위대가목록!E18,0) -> 0 | F60: =TRUNC(E60*D60, 0) -> 0 | G60: =TRUNC(일위대가목록!F18,0) -> 2652 | H60: =TRUNC(G60*D60, 0) -> 5304 | I60: =TRUNC(일위대가목록!G18,0) -> 53 | J60: =TRUNC(I60*D60, 0) -> 106 | K60: =TRUNC(E60+G60+I60, 0) -> 2705 | L60: =TRUNC(F60+H60+J60, 0) -> 5410 | N60: 5F03F42105264B38D67C8626FEB986 | Q60: 010103 | R60: T | S60: F | T60: F | AU60: 0101035F03F42105264B38D67C8626FEB986 | AV60: 23
A81: [ 합 계 ] | F81: =SUM(F57:F80) -> 1042920 | H81: =SUM(H57:H80) -> 5304 | J81: =SUM(J57:J80) -> 106 | L81: =SUM(L57:L80) -> 1048330 | N81: TOTAL
A82: 010104 도 장 공 사 | Q82: 010104
A83: 수성페인트(롤러칠) | B83: 내부, 3회, 친환경페인트(POP) | C83: M2 | D83: 54 | E83: =TRUNC(일위대가목록!E19,0) -> 848 | F83: =TRUNC(E83*D83, 0) -> 45792 | G83: =TRUNC(일위대가목록!F19,0) -> 5337 | H83: =TRUNC(G83*D83, 0) -> 288198 | I83: =TRUNC(일위대가목록!G19,0) -> 0 | J83: =TRUNC(I83*D83, 0) -> 0 | K83: =TRUNC(E83+G83+I83, 0) -> 6185 | L83: =TRUNC(F83+H83+J83, 0) -> 333990 | N83: 5F03D4D9B566A03436154566B8392B | Q83: 010104 | R83: T | S83: F | T83: F | AU83: 0101045F03D4D9B566A03436154566B8392B | AV83: 26
A107: [ 합 계 ] | F107: =SUM(F83:F106) -> 45792 | H107: =SUM(H83:H106) -> 288198 | J107: =SUM(J83:J106) -> 0 | L107: =SUM(L83:L106) -> 333990 | N107: TOTAL

Sheet 일위대가목록
A1: 일 위 대 가 목 록
A2: [ 원내대표실 시설공사 ]
A3: 코 드 | B3: 품 명 | C3: 규 격 | D3: 단위 | E3: 재 료 비 | F3: 노 무 비 | G3: 경 비 | H3: 합 계 | I3: 번 호 | J3: 비 고 | K3: 노임계수 | L3: 할증 | M3: 품셈개요 | N3: 장비일위
A4: 5F0324F1F5D57C380622B046E9220B | B4: 강관 조립말비계(이동식) | C4: 높이 2m, 3개월 | D4: 대 | E4: =일위대가!F15 -> 28276 | F4: =일위대가!H15 -> 55172 | G4: =일위대가!J15 -> 0 | H4: =E4+F4+G4 -> 83448 | I4: 호표 1 | M4: 토목 2-6-4, 6
A5: 5F0324F4B53CC731F64F91E66B44FF | B5: 건축물현장정리 | C5: 철근콘크리트조 30% | D5: M2 | E5: =일위대가!F19 -> 0 | F5: =일위대가!H19 -> 4245 | G5: =일위대가!J19 -> 0 | H5: =E5+F5+G5 -> 4245 | I5: 호표 2
A6: 5F03A4A4459F8034862201E6C4AAF9 | B6: 벽체틀 | C6: 30*30, @450*600 | D6: M2 | E6: =일위대가!F24 -> 1414 | F6: =일위대가!H24 -> 5195 | G6: =일위대가!J24 -> 103 | H6: =E6+F6+G6 -> 6712 | I6: 호표 3 | M6: 건축 11-1-3.1
A7: 5F03A4A4459FBD39C660DA0652BC91 | B7: 벽체틀 | C7: 75*45, @450*450 | D7: M2 | E7: =일위대가!F29 -> 5811 | F7: =일위대가!H29 -> 5195 | G7: =일위대가!J29 -> 103 | H7: =E7+F7+G7 -> 11109 | I7: 호표 4
A8: 5F03F428B5302F3EE6D8F80637BC39 | B8: 칸막이상부보강 | C8: C-100*50*20*2.3T L=1930*2+ㅁ-50*100*2.3 L=200 | D8: 개소 | E8: =일위대가!F37 -> 16762 | F8: =일위대가!H37 -> 91511 | G8: =일위대가!J37 -> 77 | H8: =E8+F8+G8 -> 108350 | I8: 호표 5
A9: 5F03C4F275842834669F7F56DCA6EF | B9: 걸레받이 붙임 | C9: MDF 9T, H=90 | D9: M | E9: =일위대가!F44 -> 3605 | F9: =일위대가!H44 -> 2301 | G9: =일위대가!J44 -> 46 | H9: =E9+F9+G9 -> 5952 | I9: 호표 6
A10: 5F03C4F275842834669F7F56DCA6EC | B10: 중간몰딩 붙임 | C10: MDF18T, W=90 | D10: M | E10: =일위대가!F51 -> 4670 | F10: =일위대가!H51 -> 2301 | G10: =일위대가!J51 -> 46 | H10: =E10+F10+G10 -> 7017 | I10: 호표 7
A11: 5F03C4F275842834669F7F56DCA6ED | B11: 천정몰딩 붙임 | C11: MDF 12T, W=90 | D11: M | E11: =일위대가!F58 -> 3779 | F11: =일위대가!H58 -> 2301 | G11: =일위대가!J58 -> 46 | H11: =E11+F11+G11 -> 6126 | I11: 호표 8
A12: 5F03C4F275842834669F7F56DCA6EA | B12: 출입문몰딩 붙임 | C12: MDF18T, W=90 | D12: M | E12: =일위대가!F65 -> 4130 | F12: =일위대가!H65 -> 2301 | G12: =일위대가!J65 -> 46 | H12: =E12+F12+G12 -> 6477 | I12: 호표 9
A13: 5F03C4F0B517C73576D47DA649F65B | B13: 벽, MDF붙임 | C13: 9t 무늬목필름 | D13: M2 | E13: =일위대가!F71 -> 33840 | F13: =일위대가!H71 -> 9497 | G13: =일위대가!J71 -> 189 | H13: =E13+F13+G13 -> 43526 | I13: 호표 10
A14: 5F03C4F0B517FC34F697E626A861FA | B14: 텍스설치 - 시공비 | D14: M2 | E14: =일위대가!F77 -> 0 | F14: =일위대가!H77 -> 8150 | G14: =일위대가!J77 -> 244 | H14: =E14+F14+G14 -> 8394 | I14: 호표 11
A15: 5F03C4F0B5205F30F65D0DC62A43FF | B15: 석고판 나사 고정(바탕용) 설치비 | C15: 벽, 2겹 붙임 | D15: M2 | E15: =일위대가!F83 -> 0 | F15: =일위대가!H83 -> 8800 | G15: =일위대가!J83 -> 88 | H15: =E15+F15+G15 -> 8888 | I15: 호표 12 | M15: 건축 11-3-1.2
A16: 5F022405D5FFAE3D0616AC563F0C81 | B16: 텍스, 합판 철거(천장) | C16: 해체재 일부 재사용 | D16: M2 | E16: =일위대가!F88 -> 0 | F16: =일위대가!H88 -> 5062 | G16: =일위대가!J88 -> 0 | H16: =E16+F16+G16 -> 5062 | I16: 호표 13 | M16: 건축 18-1-2
A17: 5F03F426855076339664BAB6461F35 | B17: WD1[도청의회청사] | C17: 0.900 x 2.100 = 1.890 | D17: EA | E17: =일위대가!F93 -> 475460 | F17: =일위대가!H93 -> 0 | G17: =일위대가!J93 -> 0 | H17: =E17+F17+G17 -> 475460 | I17: 호표 14
A18: 5F03F42105264B38D67C8626FEB986 | B18: 도아록설치 | C18: 목재문, 재료비 별도 | D18: 개소 | E18: =일위대가!F98 -> 0 | F18: =일위대가!H98 -> 2652 | G18: =일위대가!J98 -> 53 | H18: =E18+F18+G18 -> 2705 | I18: 호표 15 | M18: 건축 16-2
A19: 5F03D4D9B566A03436154566B8392B | B19: 수성페인트(롤러칠) | C19: 내부, 3회, 친환경페인트(POP) | D19: M2 | E19: =일위대가!F103 -> 848 | F19: =일위대가!H103 -> 5337 | G19: =일위대가!J103 -> 0 | H19: =E19+F19+G19 -> 6185 | I19: 호표 16 | M19: 건축 17-2-2
A20: 5F0324F1F5D57C380622B056F014C3 | B20: 강관 조립말비계(이동식) - 노무비 | C20: 높이 2m, 설치, 해체비 | D20: 대 | E20: =일위대가!F108 -> 0 | F20: =일위대가!H108 -> 55172 | G20: =일위대가!J108 -> 0 | H20: =E20+F20+G20 -> 55172 | I20: 호표 17 | M20: 토목 2-6-4, 6
A21: 5F03A4A4459F923BA69ED326770A1F | B21: 벽체틀 | C21: 자재 별도 | D21: M2 | E21: =일위대가!F114 -> 0 | F21: =일위대가!H114 -> 5195 | G21: =일위대가!J114 -> 103 | H21: =E21+F21+G21 -> 5298 | I21: 호표 18 | M21: 건축 11-1-3.1
A22: 5F0394B26574253A662C3B667371AB | B22: 잡철물제작설치(철재) | C22: 간단 | D22: kg | E22: =일위대가!F119 -> 175 | F22: =일위대가!H119 -> 4570 | G22: =일위대가!J119 -> 4 | H22: =E22+F22+G22 -> 4749 | I22: 호표 19 | M22: 건축 14-5
A23: 5F03D4DB655ECD3296EF2876661480 | B23: 녹막이페인트(붓칠) | C23: 철재면, 1회, 1종 | D23: M2 | E23: =일위대가!F124 -> 754 | F23: =일위대가!H124 -> 2271 | G23: =일위대가!J124 -> 0 | H23: =E23+F23+G23 -> 3025 | I23: 호표 20 | M23: 건축 17-4
A24: 5F0394B26574253A6613B1F6E0F0E9 | B24: 잡철물제작(철재) | C24: 간단 | D24: kg | E24: =일위대가!F137 -> 142 | F24: =일위대가!H137 -> 3636 | G24: =일위대가!J137 -> 3 | H24: =E24+F24+G24 -> 3781 | I24: 호표 21 | M24: 건축 14-5
A25: 5F0394B26574253A6613B1E6D99EAA | B25: 잡철물설치(철재) | C25: 간단 | D25: kg | E25: =일위대가!F150 -> 33 | F25: =일위대가!H150 -> 934 | G25: =일위대가!J150 -> 1 | H25: =E25+F25+G25 -> 968 | I25: 호표 22 | M25: 건축 14-5
A26: 5F03D4DB655ECD3296F96BD611FD2A | B26: 녹막이페인트(붓칠) - 재료비 | C26: 철재면, 1회, 1종 | D26: M2 | E26: =일위대가!F156 -> 754 | F26: =일위대가!H156 -> 0 | G26: =일위대가!J156 -> 0 | H26: =E26+F26+G26 -> 754 | I26: 호표 23 | M26: 건축 17-4
A27: 5F03D4DB655ECD3296F97446E2726F | B27: 녹막이페인트(붓칠) - 노무비 | C27: 철재면, 1회 칠 | D27: M2 | E27: =일위대가!F161 -> 0 | F27: =일위대가!H161 -> 2271 | G27: =일위대가!J161 -> 0 | H27: =E27+F27+G27 -> 2271 | I27: 호표 24 | M27: 건축 17-4
A28: 58157483D5D1B631C6A5CBF650DAADA155784B23 | B28: 용접기(교류) | C28: 500Amp | D28: HR | E28: =일위대가!F165 -> 0 | F28: =일위대가!H165 -> 0 | G28: =일위대가!J165 -> 124 | H28: =E28+F28+G28 -> 124 | I28: 호표 25 | K28: A | M28: 토목 9-44-43 | N28: T
A29: 5F03C4F275840D3686D4D86695567E | B29: 걸레받이 붙임 - 시공비 | C29: 중밀도섬유판, H=75~120mm 기준 | D29: M | E29: =일위대가!F171 -> 0 | F29: =일위대가!H171 -> 2301 | G29: =일위대가!J171 -> 46 | H29: =E29+F29+G29 -> 2347 | I29: 호표 26 | M29: 건축 11-3-2
A30: 5F03C4F0B5430339B6704F263FEFA6 | B30: 벽, 합판붙임 | C30: 합판별도 | D30: M2 | E30: =일위대가!F177 -> 0 | F30: =일위대가!H177 -> 9497 | G30: =일위대가!J177 -> 189 | H30: =E30+F30+G30 -> 9686 | I30: 호표 27 | M30: 건축 11-1-3.3
A31: 5F03D4D9B566A03436F36CE613F0C1 | B31: 수성페인트(롤러칠) - 친환경페인트 재료비 | C31: 내부, 3회, 친환경페인트(POP) | D31: M2 | E31: =일위대가!F182 -> 848 | F31: =일위대가!H182 -> 0 | G31: =일위대가!J182 -> 0 | H31: =E31+F31+G31 -> 848 | I31: 호표 28 | M31: 건축 17-2-2
A32: 5F03D4D9B566A03436AB4F463912D5 | B32: 수성페인트(롤러칠) - 노무비 | C32: 3회 칠 | D32: M2 | E32: =일위대가!F191 -> 0 | F32: =일위대가!H191 -> 5337 | G32: =일위대가!J191 -> 0 | H32: =E32+F32+G32 -> 5337 | I32: 호표 29 | M32: 건축 17-2-2

Sheet 일위대가
A1: [ 원내대표실 시설공사 ]
A2: 품 명 | B2: 규 격 | C2: 단위 | D2: 수량 | E2: 재 료 비 | G2: 노 무 비 | I2: 경 비 | K2: 합 계 | M2: 비 고 | N2: 일위대가 | O2: 품목코드 | P2: 일위 | Q2: 단산 | R2: 자재 | S2: 손료적용 | T2: 손료저장 | U2: 적용율 | V2: JUK1 | W2: JUK2 | X2: JUK3 | Y2: JUK4 | Z2: JUK5 | AA2: JUK6 | AB2: JUK7 | AC2: JUK8 | AD2: 할증적용 | AE2: 할증저장 | AF2: 할증율 | AG2: HAL1 | AH2: HAL2 | AI2: HAL3 | AJ2: 자재구분 | AK2: 일위대가+자재 | AL2: 장비일위 | AM2: 설정
E3: 단 가 | F3: 금 액 | G3: 단 가 | H3: 금 액 | I3: 단 가 | J3: 금 액 | K3: 단 가 | L3: 금 액
A4: 강관 조립말비계(이동식) 높이 2m, 3개월 대 토목 2-6-4, 6 ( 호표 1 ) | N4: 5F0324F1F5D57C380622B046E9220B
A5: 비계안정장치 | B5: 비계안정장치, 비계기본틀, 기둥, 1.2*1.7m | C5: 개 | D5: 0.12 | E5: =단가대비표!O20 -> 20830 | F5: =TRUNC(E5*D5,1) -> 2499.6 | G5: =단가대비표!P20 -> 0 | H5: =TRUNC(G5*D5,1) -> 0 | I5: =단가대비표!V20 -> 0 | J5: =TRUNC(I5*D5,1) -> 0 | K5: =TRUNC(E5+G5+I5,1) -> 20830 | L5: =TRUNC(F5+H5+J5,1) -> 2499.6 | N5: 5F0324F1F5D57C380622B046E9220B | O5: 5827D48755262D3D361267C68B2D87D46659D6 | P5: F | Q5: F | R5: T | AK5: 5F0324F1F5D57C380622B046E9220B5827D48755262D3D361267C68B2D87D46659D6
A6: 비계안정장치 | B6: 비계안정장치, 가새, 1.2*1.9m | C6: 개 | D6: 0.12 | E6: =단가대비표!O21 -> 6640 | F6: =TRUNC(E6*D6,1) -> 796.8 | G6: =단가대비표!P21 -> 0 | H6: =TRUNC(G6*D6,1) -> 0 | I6: =단가대비표!V21 -> 0 | J6: =TRUNC(I6*D6,1) -> 0 | K6: =TRUNC(E6+G6+I6,1) -> 6640 | L6: =TRUNC(F6+H6+J6,1) -> 796.8 | N6: 5F0324F1F5D57C380622B046E9220B | O6: 5827D48755262D3D361267C68B2D87D46659D8 | P6: F | Q6: F | R6: T | AK6: 5F0324F1F5D57C380622B046E9220B5827D48755262D3D361267C68B2D87D46659D8
A7: 비계안정장치 | B7: 비계안정장치, 수평띠장, 1829mm | C7: 개 | D7: 0.24 | E7: =단가대비표!O22 -> 24500 | F7: =TRUNC(E7*D7,1) -> 5880 | G7: =단가대비표!P22 -> 0 | H7: =TRUNC(G7*D7,1) -> 0 | I7: =단가대비표!V22 -> 0 | J7: =TRUNC(I7*D7,1) -> 0 | K7: =TRUNC(E7+G7+I7,1) -> 24500 | L7: =TRUNC(F7+H7+J7,1) -> 5880 | N7: 5F0324F1F5D57C380622B046E9220B | O7: 5827D48755262D3D361267C68B2D87D466561F | P7: F | Q7: F | R7: T | AK7: 5F0324F1F5D57C380622B046E9220B5827D48755262D3D361267C68B2D87D466561F
A8: 비계안정장치 | B8: 비계안정장치, 손잡이기둥 | C8: 개 | D8: 0.24 | E8: =단가대비표!O25 -> 0 | F8: =TRUNC(E8*D8,1) -> 0 | G8: =단가대비표!P25 -> 0 | H8: =TRUNC(G8*D8,1) -> 0 | I8: =단가대비표!V25 -> 0 | J8: =TRUNC(I8*D8,1) -> 0 | K8: =TRUNC(E8+G8+I8,1) -> 0 | L8: =TRUNC(F8+H8+J8,1) -> 0 | N8: 5F0324F1F5D57C380622B046E9220B | O8: 5827D48755262D3D361267C68B2D87D4665618 | P8: F | Q8: F | R8: T | AK8: 5F0324F1F5D57C380622B046E9220B5827D48755262D3D361267C68B2D87D4665618
A9: 비계안정장치 | B9: 비계안정장치, 손잡이, 1229mm | C9: 개 | D9: 0.12 | E9: =단가대비표!O23 -> 0 | F9: =TRUNC(E9*D9,1) -> 0 | G9: =단가대비표!P23 -> 0 | H9: =TRUNC(G9*D9,1) -> 0 | I9: =단가대비표!V23 -> 0 | J9: =TRUNC(I9*D9,1) -> 0 | K9: =TRUNC(E9+G9+I9,1) -> 0 | L9: =TRUNC(F9+H9+J9,1) -> 0 | N9: 5F0324F1F5D57C380622B046E9220B | O9: 5827D48755262D3D361267C68B2D87D466561E | P9: F | Q9: F | R9: T | AK9: 5F0324F1F5D57C380622B046E9220B5827D48755262D3D361267C68B2D87D466561E
A10: 비계안정장치 | B10: 비계안정장치, 손잡이, 1829mm | C10: 개 | D10: 0.24 | E10: =단가대비표!O24 -> 0 | F10: =TRUNC(E10*D10,1) -> 0 | G10: =단가대비표!P24 -> 0 | H10: =TRUNC(G10*D10,1) -> 0 | I10: =단가대비표!V24 -> 0 | J10: =TRUNC(I10*D10,1) -> 0 | K10: =TRUNC(E10+G10+I10,1) -> 0 | L10: =TRUNC(F10+H10+J10,1) -> 0 | N10: 5F0324F1F5D57C380622B046E9220B | O10: 5827D48755262D3D361267C68B2D87D4665619 | P10: F | Q10: F | R10: T | AK10: 5F0324F1F5D57C380622B046E9220B5827D48755262D3D361267C68B2D87D4665619
A11: 비계안정장치 | B11: 비계안정장치, 바퀴 | C11: 개 | D11: 0.36 | E11: =단가대비표!O26 -> 10000 | F11: =TRUNC(E11*D11,1) -> 3600 | G11: =단가대비표!P26 -> 0 | H11: =TRUNC(G11*D11,1) -> 0 | I11: =단가대비표!V26 -> 0 | J11: =TRUNC(I11*D11,1) -> 0 | K11: =TRUNC(E11+G11+I11,1) -> 10000 | L11: =TRUNC(F11+H11+J11,1) -> 3600 | N11: 5F0324F1F5D57C380622B046E9220B | O11: 5827D48755262D3D361267C68B2D87D466561B | P11: F | Q11: F | R11: T | AK11: 5F0324F1F5D57C380622B046E9220B5827D48755262D3D361267C68B2D87D466561B
A12: 비계안정장치 | B12: 비계안정장치, 쟈키 | C12: 개 | D12: 0.36 | E12: =단가대비표!O27 -> 9000 | F12: =TRUNC(E12*D12,1) -> 3240 | G12: =단가대비표!P27 -> 0 | H12: =TRUNC(G12*D12,1) -> 0 | I12: =단가대비표!V27 -> 0 | J12: =TRUNC(I12*D12,1) -> 0 | K12: =TRUNC(E12+G12+I12,1) -> 9000 | L12: =TRUNC(F12+H12+J12,1) -> 3240 | N12: 5F0324F1F5D57C380622B046E9220B | O12: 5827D48755262D3D361267C68B2D87D466561A | P12: F | Q12: F | R12: T | AK12: 5F0324F1F5D57C380622B046E9220B5827D48755262D3D361267C68B2D87D466561A
A13: 판재 | B13: 판재, 외송, 일반 | C13: M3 | D13: 0.0315 | E13: =단가대비표!O14 -> 389221.55 | F13: =TRUNC(E13*D13,1) -> 12260.4 | G13: =단가대비표!P14 -> 0 | H13: =TRUNC(G13*D13,1) -> 0 | I13: =단가대비표!V14 -> 0 | J13: =TRUNC(I13*D13,1) -> 0 | K13: =TRUNC(E13+G13+I13,1) -> 389221.5 | L13: =TRUNC(F13+H13+J13,1) -> 12260.4 | N13: 5F0324F1F5D57C380622B046E9220B | O13: 5827D48755B5C63F4629222675230E01A47AEE | P13: F | Q13: F | R13: T | AK13: 5F0324F1F5D57C380622B046E9220B5827D48755B5C63F4629222675230E01A47AEE
A14: 강관 조립말비계(이동식) - 노무비 | B14: 높이 2m, 설치, 해체비 | C14: 대 | D14: 1 | E14: =일위대가목록!E20 -> 0 | F14: =TRUNC(E14*D14,1) -> 0 | G14: =일위대가목록!F20 -> 55172 | H14: =TRUNC(G14*D14,1) -> 55172 | I14: =일위대가목록!G20 -> 0 | J14: =TRUNC(I14*D14,1) -> 0 | K14: =TRUNC(E14+G14+I14,1) -> 55172 | L14: =TRUNC(F14+H14+J14,1) -> 55172 | N14: 5F0324F1F5D57C380622B046E9220B | O14: 5F0324F1F5D57C380622B056F014C3 | P14: T | Q14: F | R14: F | AK14: 5F0324F1F5D57C380622B046E9220B5F0324F1F5D57C380622B056F014C3
A15: [ 합 계 ] | F15: =TRUNC(SUMIF(N5:N14, N4, F5:F14),0) -> 28276 | H15: =TRUNC(SUMIF(N5:N14, N4, H5:H14),0) -> 55172 | J15: =TRUNC(SUMIF(N5:N14, N4, J5:J14),0) -> 0 | L15: =F15+H15+J15 -> 83448 | N15: TOTAL | O15: TOTAL
A17: 건축물현장정리 철근콘크리트조 30% M2 ( 호표 2 ) | N17: 5F0324F4B53CC731F64F91E66B44FF
A18: 보통인부 | B18: 일반공사 직종 | C18: 인 | D18: 0.045 | E18: =단가대비표!O36 -> 0 | F18: =TRUNC(E18*D18,1) -> 0 | G18: =단가대비표!P36 -> 94338 | H18: =TRUNC(G18*D18,1) -> 4245.2 | I18: =단가대비표!V36 -> 0 | J18: =TRUNC(I18*D18,1) -> 0 | K18: =TRUNC(E18+G18+I18,1) -> 94338 | L18: =TRUNC(F18+H18+J18,1) -> 4245.2 | N18: 5F0324F4B53CC731F64F91E66B44FF | O18: 5FD1B4E585B1663496ABD7F65444D5A7DBDFDF | P18: F | Q18: F | R18: T | AK18: 5F0324F4B53CC731F64F91E66B44FF5FD1B4E585B1663496ABD7F65444D5A7DBDFDF
A19: [ 합 계 ] | F19: =TRUNC(SUMIF(N18:N18, N17, F18:F18),0) -> 0 | H19: =TRUNC(SUMIF(N18:N18, N17, H18:H18),0) -> 4245 | J19: =TRUNC(SUMIF(N18:N18, N17, J18:J18),0) -> 0 | L19: =F19+H19+J19 -> 4245 | N19: TOTAL | O19: TOTAL
A21: 벽체틀 30*30, @450*600 M2 건축 11-1-3.1 ( 호표 3 ) | N21: 5F03A4A4459F8034862201E6C4AAF9
A22: 각재 | B22: 각재, 외송 | C22: 재 | D22: 1.1503 | E22: =단가대비표!O15 -> 1230 | F22: =TRUNC(E22*D22,1) -> 1414.8 | G22: =단가대비표!P15 -> 0 | H22: =TRUNC(G22*D22,1) -> 0 | I22: =단가대비표!V15 -> 0 | J22: =TRUNC(I22*D22,1) -> 0 | K22: =TRUNC(E22+G22+I22,1) -> 1230 | L22: =TRUNC(F22+H22+J22,1) -> 1414.8 | N22: 5F03A4A4459F8034862201E6C4AAF9 | O22: 5827D48755B5C63F46BFC4368343F7D01C7970 | P22: F | Q22: F | R22: T | AK22: 5F03A4A4459F8034862201E6C4AAF95827D48755B5C63F46BFC4368343F7D01C7970
A23: 벽체틀 | B23: 자재 별도 | C23: M2 | D23: 1 | E23: =일위대가목록!E21 -> 0 | F23: =TRUNC(E23*D23,1) -> 0 | G23: =일위대가목록!F21 -> 5195 | H23: =TRUNC(G23*D23,1) -> 5195 | I23: =일위대가목록!G21 -> 103 | J23: =TRUNC(I23*D23,1) -> 103 | K23: =TRUNC(E23+G23+I23,1) -> 5298 | L23: =TRUNC(F23+H23+J23,1) -> 5298 | N23: 5F03A4A4459F8034862201E6C4AAF9 | O23: 5F03A4A4459F923BA69ED326770A1F | P23: T | Q23: F | R23: F | AK23: 5F03A4A4459F8034862201E6C4AAF95F03A4A4459F923BA69ED326770A1F
A24: [ 합 계 ] | F24: =TRUNC(SUMIF(N22:N23, N21, F22:F23),0) -> 1414 | H24: =TRUNC(SUMIF(N22:N23, N21, H22:H23),0) -> 5195 | J24: =TRUNC(SUMIF(N22:N23, N21, J22:J23),0) -> 103 | L24: =F24+H24+J24 -> 6712 | N24: TOTAL | O24: TOTAL
A26: 벽체틀 75*45, @450*450 M2 ( 호표 4 ) | N26: 5F03A4A4459FBD39C660DA0652BC91
A27: 각재 | B27: 각재, 외송 | C27: 재 | D27: 4.725 | E27: =단가대비표!O15 -> 1230 | F27: =TRUNC(E27*D27,1) -> 5811.7 | G27: =단가대비표!P15 -> 0 | H27: =TRUNC(G27*D27,1) -> 0 | I27: =단가대비표!V15 -> 0 | J27: =TRUNC(I27*D27,1) -> 0 | K27: =TRUNC(E27+G27+I27,1) -> 1230 | L27: =TRUNC(F27+H27+J27,1) -> 5811.7 | N27: 5F03A4A4459FBD39C660DA0652BC91 | O27: 5827D48755B5C63F46BFC4368343F7D01C7970 | P27: F | Q27: F | R27: T | AK27: 5F03A4A4459FBD39C660DA0652BC915827D48755B5C63F46BFC4368343F7D01C7970
A28: 벽체틀 | B28: 자재 별도 | C28: M2 | D28: 1 | E28: =일위대가목록!E21 -> 0 | F28: =TRUNC(E28*D28,1) -> 0 | G28: =일위대가목록!F21 -> 5195 | H28: =TRUNC(G28*D28,1) -> 5195 | I28: =일위대가목록!G21 -> 103 | J28: =TRUNC(I28*D28,1) -> 103 | K28: =TRUNC(E28+G28+I28,1) -> 5298 | L28: =TRUNC(F28+H28+J28,1) -> 5298 | N28: 5F03A4A4459FBD39C660DA0652BC91 | O28: 5F03A4A4459F923BA69ED326770A1F | P28: T | Q28: F | R28: F | AK28: 5F03A4A4459FBD39C660DA0652BC915F03A4A4459F923BA69ED326770A1F
A29: [ 합 계 ] | F29: =TRUNC(SUMIF(N27:N28, N26, F27:F28),0) -> 5811 | H29: =TRUNC(SUMIF(N27:N28, N26, H27:H28),0) -> 5195 | J29: =TRUNC(SUMIF(N27:N28, N26, J27:J28),0) -> 103 | L29: =F29+H29+J29 -> 11109 | N29: TOTAL | O29: TOTAL
A31: 칸막이상부보강 C-100*50*20*2.3T L=1930*2+ㅁ-50*100*2.3 L=200 개소 ( 호표 5 ) | N31: 5F03F428B5302F3EE6D8F80637BC39
A32: 경량형강 | B32: 경량형강, 블랙C형강, 100*50*20, t2.3 | C32: TON | D32: 0.01646 | E32: =단가대비표!O13 -> 590000 | F32: =TRUNC(E32*D32,1) -> 9711.4 | G32: =단가대비표!P13 -> 0 | H32: =TRUNC(G32*D32,1) -> 0 | I32: =단가대비표!V13 -> 0 | J32: =TRUNC(I32*D32,1) -> 0 | K32: =TRUNC(E32+G32+I32,1) -> 590000 | L32: =TRUNC(F32+H32+J32,1) -> 9711.4 | N32: 5F03F428B5302F3EE6D8F80637BC39 | O32: 5827D48755B5E130666C0E560D0FFD025C97EA | P32: F | Q32: F | R32: T | AK32: 5F03F428B5302F3EE6D8F80637BC395827D48755B5E130666C0E560D0FFD025C97EA
A33: ㄱ형강 | B33: ㄱ형강, 등변, 75*75*6mm | C33: kg | D33: 2.877 | E33: =단가대비표!O12 -> 710 | F33: =TRUNC(E33*D33,1) -> 2042.6 | G33: =단가대비표!P12 -> 0 | H33: =TRUNC(G33*D33,1) -> 0 | I33: =단가대비표!V12 -> 0 | J33: =TRUNC(I33*D33,1) -> 0 | K33: =TRUNC(E33+G33+I33,1) -> 710 | L33: =TRUNC(F33+H33+J33,1) -> 2042.6 | N33: 5F03F428B5302F3EE6D8F80637BC39 | O33: 5827D48755B5E1321639E186FA5D4ADF6100CC | P33: F | Q33: F | R33: T | AK33: 5F03F428B5302F3EE6D8F80637BC395827D48755B5E1321639E186FA5D4ADF6100CC
A34: 일반구조용각형강관 | B34: 일반구조용각형강관, 각형강관, 100*50*2.3mm | C34: M | D34: 0.2 | E34: =단가대비표!O34 -> 3600 | F34: =TRUNC(E34*D34,1) -> 720 | G34: =단가대비표!P34 -> 0 | H34: =TRUNC(G34*D34,1) -> 0 | I34: =단가대비표!V34 -> 0 | J34: =TRUNC(I34*D34,1) -> 0 | K34: =TRUNC(E34+G34+I34,1) -> 3600 | L34: =TRUNC(F34+H34+J34,1) -> 720 | N34: 5F03F428B5302F3EE6D8F80637BC39 | O34: 5853245555F2C038965863D68231FE3A3C5CFE | P34: F | Q34: F | R34: T | AK34: 5F03F428B5302F3EE6D8F80637BC395853245555F2C038965863D68231FE3A3C5CFE
A35: 잡철물제작설치(철재) | B35: 간단 | C35: kg | D35: 19.44 | E35: =일위대가목록!E22 -> 175 | F35: =TRUNC(E35*D35,1) -> 3402 | G35: =일위대가목록!F22 -> 4570 | H35: =TRUNC(G35*D35,1) -> 88840.8 | I35: =일위대가목록!G22 -> 4 | J35: =TRUNC(I35*D35,1) -> 77.7 | K35: =TRUNC(E35+G35+I35,1) -> 4749 | L35: =TRUNC(F35+H35+J35,1) -> 92320.5 | N35: 5F03F428B5302F3EE6D8F80637BC39 | O35: 5F0394B26574253A662C3B667371AB | P35: T | Q35: F | R35: F | AK35: 5F03F428B5302F3EE6D8F80637BC395F0394B26574253A662C3B667371AB
A36: 녹막이페인트(붓칠) | B36: 철재면, 1회, 1종 | C36: M2 | D36: 1.176 | E36: =일위대가목록!E23 -> 754 | F36: =TRUNC(E36*D36,1) -> 886.7 | G36: =일위대가목록!F23 -> 2271 | H36: =TRUNC(G36*D36,1) -> 2670.6 | I36: =일위대가목록!G23 -> 0 | J36: =TRUNC(I36*D36,1) -> 0 | K36: =TRUNC(E36+G36+I36,1) -> 3025 | L36: =TRUNC(F36+H36+J36,1) -> 3557.3 | N36: 5F03F428B5302F3EE6D8F80637BC39 | O36: 5F03D4DB655ECD3296EF2876661480 | P36: T | Q36: F | R36: F | AK36: 5F03F428B5302F3EE6D8F80637BC395F03D4DB655ECD3296EF2876661480
A37: [ 합 계 ] | F37: =TRUNC(SUMIF(N32:N36, N31, F32:F36),0) -> 16762 | H37: =TRUNC(SUMIF(N32:N36, N31, H32:H36),0) -> 91511 | J37: =TRUNC(SUMIF(N32:N36, N31, J32:J36),0) -> 77 | L37: =F37+H37+J37 -> 108350 | N37: TOTAL | O37: TOTAL
A39: 걸레받이 붙임 MDF 9T, H=90 M ( 호표 6 ) | N39: 5F03C4F275842834669F7F56DCA6EF
A40: 중밀도섬유판 | B40: 중밀도섬유판, 9.0*1220*2440mm | C40: M2 | D40: 0.0936 | E40: =단가대비표!O6 -> 3728.83 | F40: =TRUNC(E40*D40,1) -> 349 | G40: =단가대비표!P6 -> 0 | H40: =TRUNC(G40*D40,1) -> 0 | I40: =단가대비표!V6 -> 0 | J40: =TRUNC(I40*D40,1) -> 0 | K40: =TRUNC(E40+G40+I40,1) -> 3728.8 | L40: =TRUNC(F40+H40+J40,1) -> 349 | N40: 5F03C4F275842834669F7F56DCA6EF | O40: 580B1421C57A963F36B62F26E7EE726EF96E4C | P40: F | Q40: F | R40: T | AK40: 5F03C4F275842834669F7F56DCA6EF580B1421C57A963F36B62F26E7EE726EF96E4C
A41: 고무접착제 | B41: 고무접착제, 건설용고무풀 | C41: kg | D41: 0.026 | E41: =단가대비표!O30 -> 11000 | F41: =TRUNC(E41*D41,1) -> 286 | G41: =단가대비표!P30 -> 0 | H41: =TRUNC(G41*D41,1) -> 0 | I41: =단가대비표!V30 -> 0 | J41: =TRUNC(I41*D41,1) -> 0 | K41: =TRUNC(E41+G41+I41,1) -> 11000 | L41: =TRUNC(F41+H41+J41,1) -> 286 | N41: 5F03C4F275842834669F7F56DCA6EF | O41: 5827C4FD355E363F76F9CF16B168C96BF75B0F | P41: F | Q41: F | R41: T | AK41: 5F03C4F275842834669F7F56DCA6EF5827C4FD355E363F76F9CF16B168C96BF75B0F
A42: 걸레받이 붙임 - 시공비 | B42: 중밀도섬유판, H=75~120mm 기준 | C42: M | D42: 1 | E42: =일위대가목록!E29 -> 0 | F42: =TRUNC(E42*D42,1) -> 0 | G42: =일위대가목록!F29 -> 2301 | H42: =TRUNC(G42*D42,1) -> 2301 | I42: =일위대가목록!G29 -> 46 | J42: =TRUNC(I42*D42,1) -> 46 | K42: =TRUNC(E42+G42+I42,1) -> 2347 | L42: =TRUNC(F42+H42+J42,1) -> 2347 | N42: 5F03C4F275842834669F7F56DCA6EF | O42: 5F03C4F275840D3686D4D86695567E | P42: T | Q42: F | R42: F | AK42: 5F03C4F275842834669F7F56DCA6EF5F03C4F275840D3686D4D86695567E
A43: 인테리어필름 | B43: 목무늬,방염 | C43: M2 | D43: 0.099 | E43: =단가대비표!O16 -> 30000 | F43: =TRUNC(E43*D43,1) -> 2970 | G43: =단가대비표!P16 -> 0 | H43: =TRUNC(G43*D43,1) -> 0 | I43: =단가대비표!V16 -> 0 | J43: =TRUNC(I43*D43,1) -> 0 | K43: =TRUNC(E43+G43+I43,1) -> 30000 | L43: =TRUNC(F43+H43+J43,1) -> 2970 | N43: 5F03C4F275842834669F7F56DCA6EF | O43: 5827D48755D0CF37767C23F6DED9B40E477F71 | P43: F | Q43: F | R43: T | AK43: 5F03C4F275842834669F7F56DCA6EF5827D48755D0CF37767C23F6DED9B40E477F71
A44: [ 합 계 ] | F44: =TRUNC(SUMIF(N40:N43, N39, F40:F43),0) -> 3605 | H44: =TRUNC(SUMIF(N40:N43, N39, H40:H43),0) -> 2301 | J44: =TRUNC(SUMIF(N40:N43, N39, J40:J43),0) -> 46 | L44: =F44+H44+J44 -> 5952 | N44: TOTAL | O44: TOTAL
A46: 중간몰딩 붙임 MDF18T, W=90 M ( 호표 7 ) | N46: 5F03C4F275842834669F7F56DCA6EC
...

Sheet 단가대비표
A1: 단 가 대 비 표
A2: [ 원내대표실 시설공사 ]
A3: 코 드 | B3: 품 명 | C3: 규격 | D3: 단위 | E3: 재 료 비 | P3: 노 무 비 | Q3: 경 비 | W3: 번 호 | X3: 비 고 | Y3: 품목구분 | Z3: 노임구분 | AA3: 소수점처리 | AB3: 자재구분
E4: 가격정보 | F4: PAGE | G4: 거래가격 | H4: PAGE | I4: 유통물가 | J4: PAGE | K4: 물가자료 | L4: PAGE | M4: 조사가격 | N4: PAGE | O4: 적용단가 | Q4: 가격정보 | R4: 거래가격 | S4: 유통물가 | T4: 물가자료 | U4: 조사가격 | V4: 적용단가
A5: 58157483D5D1B631C6A5CBF650DAADA155784B | B5: 용접기(교류) | C5: 500Amp | D5: 대 | E5: 0 | G5: 0 | I5: 0 | K5: 0 | M5: 0 | O5: 0 | P5: 0 | Q5: 0 | R5: 0 | S5: 0 | T5: 0 | U5: 544 | V5: =SMALL(Q5:U5,COUNTIF(Q5:U5,0)+1) -> 544 | W5: 자재 1 | X5: 천원
A6: 580B1421C57A963F36B62F26E7EE726EF96E4C | B6: 중밀도섬유판 | C6: 중밀도섬유판, 9.0*1220*2440mm | D6: M2 | E6: 3747 | G6: 3930.39 | H6: 622 | I6: 3728.83 | J6: 410 | K6: 0 | M6: 0 | O6: =SMALL(E6:M6,COUNTIF(E6:M6,0)+1) -> 3728.83 | P6: 0 | Q6: 0 | R6: 0 | S6: 0 | T6: 0 | U6: 0 | V6: 0 | W6: 자재 2
A7: 580B1421C57A963F36B62F26E7EE726EF96E4D | B7: 중밀도섬유판 | C7: 중밀도섬유판, 12*1220*2440mm | D7: M2 | E7: 4635 | G7: 5408.49 | H7: 622 | I7: 5072.56 | J7: 410 | K7: 0 | M7: 0 | O7: =SMALL(E7:M7,COUNTIF(E7:M7,0)+1) -> 4635 | P7: 0 | Q7: 0 | R7: 0 | S7: 0 | T7: 0 | U7: 0 | V7: 0 | W7: 자재 3
A8: 580B1421C57A963F36B62F26E7EE726EF96E4F | B8: 중밀도섬유판 | C8: 중밀도섬유판, 18*1220*2440mm | D8: M2 | E8: 6454 | G8: 7625.63 | H8: 622 | I8: 7121.74 | J8: 410 | K8: 0 | M8: 0 | O8: =SMALL(E8:M8,COUNTIF(E8:M8,0)+1) -> 6454 | P8: 0 | Q8: 0 | R8: 0 | S8: 0 | T8: 0 | U8: 0 | V8: 0 | W8: 자재 4
A9: 580B24C6455E1A3D16CD2CA604508B6C848995 | B9: 산소가스 | C9: 기체 | D9: L | E9: 2 | G9: 2.16 | H9: 1419 | I9: 2.33 | J9: 1238 | K9: 0 | M9: 0 | O9: =SMALL(E9:M9,COUNTIF(E9:M9,0)+1) -> 2 | P9: 0 | Q9: 0 | R9: 0 | S9: 0 | T9: 0 | U9: 0 | V9: 0 | W9: 자재 5
A10: 580B549A35E2EB3536EB8F56901E1A023E617D | B10: 아세틸렌가스 | C10: 아세틸렌가스, kg | D10: kg | E10: 9500 | G10: 10000 | H10: 1419 | I10: 11000 | J10: 1238 | K10: 0 | M10: 0 | O10: =SMALL(E10:M10,COUNTIF(E10:M10,0)+1) -> 9500 | P10: 0 | Q10: 0 | R10: 0 | S10: 0 | T10: 0 | U10: 0 | V10: 0 | W10: 자재 6
A11: 5830742F451C5E32862D1A265817F3C1FA7B3B | B11: 연강용피복아크용접봉 | C11: 연강용피복아크용접봉, CR-13, Φ3.2mm | D11: kg | E11: 0 | G11: 0 | I11: 0 | K11: 0 | M11: 0 | O11: 0 | P11: 0 | Q11: 0 | R11: 0 | S11: 0 | T11: 0 | U11: 0 | V11: 0 | W11: 자재 7
A12: 5827D48755B5E1321639E186FA5D4ADF6100CC | B12: ㄱ형강 | C12: ㄱ형강, 등변, 75*75*6mm | D12: kg | E12: 710 | G12: 750 | H12: 37 | I12: 730 | J12: 22 | K12: 0 | M12: 0 | O12: =SMALL(E12:M12,COUNTIF(E12:M12,0)+1) -> 710 | P12: 0 | Q12: 0 | R12: 0 | S12: 0 | T12: 0 | U12: 0 | V12: 0 | W12: 자재 8
A13: 5827D48755B5E130666C0E560D0FFD025C97EA | B13: 경량형강 | C13: 경량형강, 블랙C형강, 100*50*20, t2.3 | D13: TON | E13: 590000 | G13: 650000 | H13: 42 | I13: 690000 | J13: 23 | K13: 0 | M13: 0 | O13: =SMALL(E13:M13,COUNTIF(E13:M13,0)+1) -> 590000 | P13: 0 | Q13: 0 | R13: 0 | S13: 0 | T13: 0 | U13: 0 | V13: 0 | W13: 자재 9
A14: 5827D48755B5C63F4629222675230E01A47AEE | B14: 판재 | C14: 판재, 외송, 일반 | D14: M3 | E14: 396900 | G14: 482035.92 | H14: 115 | I14: 389221.55 | J14: 73 | K14: 0 | M14: 0 | O14: =SMALL(E14:M14,COUNTIF(E14:M14,0)+1) -> 389221.55 | P14: 0 | Q14: 0 | R14: 0 | S14: 0 | T14: 0 | U14: 0 | V14: 0 | W14: 자재 10
A15: 5827D48755B5C63F46BFC4368343F7D01C7970 | B15: 각재 | C15: 각재, 외송 | D15: 재 | E15: 1230 | G15: 1360 | H15: 114 | I15: 1300 | J15: 73 | K15: 0 | M15: 0 | O15: =SMALL(E15:M15,COUNTIF(E15:M15,0)+1) -> 1230 | P15: 0 | Q15: 0 | R15: 0 | S15: 0 | T15: 0 | U15: 0 | V15: 0 | W15: 자재 11
A16: 5827D48755D0CF37767C23F6DED9B40E477F71 | B16: 인테리어필름 | C16: 목무늬,방염 | D16: M2 | E16: 0 | G16: 34000 | H16: 643 | I16: 0 | K16: 30000 | L16: 679 | M16: 0 | O16: =SMALL(E16:M16,COUNTIF(E16:M16,0)+1) -> 30000 | P16: 0 | Q16: 0 | R16: 0 | S16: 0 | T16: 0 | U16: 0 | V16: 0 | W16: 자재 12
A17: 5827D48755D0CF37767CEEF69F3A4839996480 | B17: 석고보드 | C17: 석고보드, 평보드, 9.5*900*1800mm(㎡) | D17: M2 | E17: 1830 | G17: 2283.95 | H17: 625 | I17: 2037.03 | J17: 409 | K17: 0 | M17: 0 | O17: =SMALL(E17:M17,COUNTIF(E17:M17,0)+1) -> 1830 | P17: 0 | Q17: 0 | R17: 0 | S17: 0 | T17: 0 | U17: 0 | V17: 0 | W17: 자재 13
A18: 5827D48755C6733386DAA3565EFCB7C7B167F9 | B18: 출입문틀 | C18: 900*2100 | D18: M2 | E18: 0 | G18: 0 | I18: 0 | K18: 114000 | L18: 581 | M18: 0 | O18: =SMALL(E18:M18,COUNTIF(E18:M18,0)+1) -> 114000 | P18: 0 | Q18: 0 | R18: 0 | S18: 0 | T18: 0 | U18: 0 | V18: 0 | W18: 자재 14 | X18: 설치도
A19: 5827D48755C6733386DAA3565EFCB7C7B167FE | B19: 출입문 | C19: 900*2100 | D19: 매 | E19: 0 | G19: 0 | I19: 0 | K19: 260000 | L19: 581 | M19: 0 | O19: =SMALL(E19:M19,COUNTIF(E19:M19,0)+1) -> 260000 | P19: 0 | Q19: 0 | R19: 0 | S19: 0 | T19: 0 | U19: 0 | V19: 0 | W19: 자재 15 | X19: 설치도
A20: 5827D48755262D3D361267C68B2D87D46659D6 | B20: 비계안정장치 | C20: 비계안정장치, 비계기본틀, 기둥, 1.2*1.7m | D20: 개 | E20: 20830 | G20: 25100 | H20: 124 | I20: 24500 | J20: 82 | K20: 0 | M20: 0 | O20: =SMALL(E20:M20,COUNTIF(E20:M20,0)+1) -> 20830 | P20: 0 | Q20: 0 | R20: 0 | S20: 0 | T20: 0 | U20: 0 | V20: 0 | W20: 자재 16
A21: 5827D48755262D3D361267C68B2D87D46659D8 | B21: 비계안정장치 | C21: 비계안정장치, 가새, 1.2*1.9m | D21: 개 | E21: 6640 | G21: 8300 | H21: 124 | I21: 8000 | J21: 82 | K21: 0 | M21: 0 | O21: =SMALL(E21:M21,COUNTIF(E21:M21,0)+1) -> 6640 | P21: 0 | Q21: 0 | R21: 0 | S21: 0 | T21: 0 | U21: 0 | V21: 0 | W21: 자재 17
A22: 5827D48755262D3D361267C68B2D87D466561F | B22: 비계안정장치 | C22: 비계안정장치, 수평띠장, 1829mm | D22: 개 | E22: 0 | G22: 24500 | H22: 124 | I22: 0 | K22: 0 | M22: 0 | O22: =SMALL(E22:M22,COUNTIF(E22:M22,0)+1) -> 24500 | P22: 0 | Q22: 0 | R22: 0 | S22: 0 | T22: 0 | U22: 0 | V22: 0 | W22: 자재 18
A23: 5827D48755262D3D361267C68B2D87D466561E | B23: 비계안정장치 | C23: 비계안정장치, 손잡이, 1229mm | D23: 개 | E23: 0 | G23: 0 | I23: 0 | K23: 0 | M23: 0 | O23: 0 | P23: 0 | Q23: 0 | R23: 0 | S23: 0 | T23: 0 | U23: 0 | V23: 0 | W23: 자재 19
A24: 5827D48755262D3D361267C68B2D87D4665619 | B24: 비계안정장치 | C24: 비계안정장치, 손잡이, 1829mm | D24: 개 | E24: 0 | G24: 0 | I24: 0 | K24: 0 | M24: 0 | O24: 0 | P24: 0 | Q24: 0 | R24: 0 | S24: 0 | T24: 0 | U24: 0 | V24: 0 | W24: 자재 20
A25: 5827D48755262D3D361267C68B2D87D4665618 | B25: 비계안정장치 | C25: 비계안정장치, 손잡이기둥 | D25: 개 | E25: 0 | G25: 0 | I25: 0 | K25: 0 | M25: 0 | O25: 0 | P25: 0 | Q25: 0 | R25: 0 | S25: 0 | T25: 0 | U25: 0 | V25: 0 | W25: 자재 21
A26: 5827D48755262D3D361267C68B2D87D466561B | B26: 비계안정장치 | C26: 비계안정장치, 바퀴 | D26: 개 | E26: 0 | G26: 10000 | H26: 123 | I26: 0 | K26: 0 | M26: 0 | O26: =SMALL(E26:M26,COUNTIF(E26:M26,0)+1) -> 10000 | P26: 0 | Q26: 0 | R26: 0 | S26: 0 | T26: 0 | U26: 0 | V26: 0 | W26: 자재 22
A27: 5827D48755262D3D361267C68B2D87D466561A | B27: 비계안정장치 | C27: 비계안정장치, 쟈키 | D27: 개 | E27: 0 | G27: 9000 | H27: 124 | I27: 10000 | J27: 86 | K27: 0 | M27: 0 | O27: =SMALL(E27:M27,COUNTIF(E27:M27,0)+1) -> 9000 | P27: 0 | Q27: 0 | R27: 0 | S27: 0 | T27: 0 | U27: 0 | V27: 0 | W27: 자재 23
A28: 5827C4FED5A7CD3776D367E6EC1A305166FFDC | B28: 도어힌지 | C28: 도어힌지, 황동, 베어링2개, 101.6*2.7mm | D28: 개 | E28: 0 | G28: 6000 | H28: 612 | I28: 0 | K28: 0 | M28: 0 | O28: =SMALL(E28:M28,COUNTIF(E28:M28,0)+1) -> 6000 | P28: 0 | Q28: 0 | R28: 0 | S28: 0 | T28: 0 | U28: 0 | V28: 0 | W28: 자재 24
A29: 5827C4FED5A7CD3BD682475698D1B5F38E1C12 | B29: 도어핸들 | C29: 도어핸들, 9000PB, 레바형 | D29: 조 | E29: 0 | G29: 0 | I29: 0 | K29: 28000 | L29: 599 | M29: 0 | O29: =SMALL(E29:M29,COUNTIF(E29:M29,0)+1) -> 28000 | P29: 0 | Q29: 0 | R29: 0 | S29: 0 | T29: 0 | U29: 0 | V29: 0 | W29: 자재 25
A30: 5827C4FD355E363F76F9CF16B168C96BF75B0F | B30: 고무접착제 | C30: 고무접착제, 건설용고무풀 | D30: kg | E30: 0 | G30: 11000 | H30: 143 | I30: 0 | K30: 0 | M30: 0 | O30: =SMALL(E30:M30,COUNTIF(E30:M30,0)+1) -> 11000 | P30: 0 | Q30: 0 | R30: 0 | S30: 0 | T30: 0 | U30: 0 | V30: 0 | W30: 자재 26
A31: 5827C4FD354DD13B3657657693CE2D8064E475 | B31: 수성페인트 | C31: 수성페인트, 친환경(POP), 내부 | D31: L | E31: 0 | G31: 2705.55 | H31: 575 | I31: 0 | K31: 0 | M31: 0 | O31: =SMALL(E31:M31,COUNTIF(E31:M31,0)+1) -> 2705.55 | P31: 0 | Q31: 0 | R31: 0 | S31: 0 | T31: 0 | U31: 0 | V31: 0 | W31: 자재 27
A32: 5827C4FD354DD13B36CA0A064463604DACAFD6 | B32: 방청페인트 | C32: 방청페인트, KSM6030-1종1류, 광명단페인트 | D32: L | E32: 9040 | G32: 17655.55 | H32: 572 | I32: 17683.33 | J32: 473 | K32: 0 | M32: 0 | O32: =SMALL(E32:M32,COUNTIF(E32:M32,0)+1) -> 9040 | P32: 0 | Q32: 0 | R32: 0 | S32: 0 | T32: 0 | U32: 0 | V32: 0 | W32: 자재 28
A33: 5827C4FD354DD136B64C30767B1321CD15D782 | B33: 시너 | C33: 시너, KSM6060, 1종 | D33: L | E33: 0 | G33: 3483.33 | H33: 572 | I33: 2433.33 | J33: 477 | K33: 0 | M33: 0 | O33: =SMALL(E33:M33,COUNTIF(E33:M33,0)+1) -> 2433.33 | P33: 0 | Q33: 0 | R33: 0 | S33: 0 | T33: 0 | U33: 0 | V33: 0 | W33: 자재 29
A34: 5853245555F2C038965863D68231FE3A3C5CFE | B34: 일반구조용각형강관 | C34: 일반구조용각형강관, 각형강관, 100*50*2.3mm | D34: M | E34: 3600 | G34: 5350 | H34: 56 | I34: 5978 | J34: 34 | K34: 0 | M34: 0 | O34: =SMALL(E34:M34,COUNTIF(E34:M34,0)+1) -> 3600 | P34: 0 | Q34: 0 | R34: 0 | S34: 0 | T34: 0 | U34: 0 | V34: 0 | W34: 자재 30
A35: 5F43E4BB6513973476365E66D5AFAED147F4F7 | B35: 공통자재 | C35: 일반경비, 전력 | D35: kwh | E35: 0 | G35: 0 | I35: 0 | K35: 0 | M35: 0 | O35: 0 | P35: 0 | Q35: 87 | R35: 0 | S35: 0 | T35: 0 | U35: 0 | V35: =SMALL(Q35:U35,COUNTIF(Q35:U35,0)+1) -> 87 | W35: 자재 31
A36: 5FD1B4E585B1663496ABD7F65444D5A7DBDFDF | B36: 보통인부 | C36: 일반공사 직종 | D36: 인 | E36: 0 | G36: 0 | I36: 0 | K36: 0 | M36: 0 | O36: 0 | P36: 94338 | Q36: 0 | R36: 0 | S36: 0 | T36: 0 | U36: 0 | V36: 0 | W36: 노임 1 | Y36: B
A37: 5FD1B4E585B1663496ABD7F65444D5A7DBDFDE | B37: 특별인부 | C37: 일반공사 직종 | D37: 인 | E37: 0 | G37: 0 | I37: 0 | K37: 0 | M37: 0 | O37: 0 | P37: 115272 | Q37: 0 | R37: 0 | S37: 0 | T37: 0 | U37: 0 | V37: 0 | W37: 노임 2 | Y37: B
A38: 5FD1B4E585B1663496ABD7F65444D5A7DBDFDB | B38: 비계공 | C38: 일반공사 직종 | D38: 인 | E38: 0 | G38: 0 | I38: 0 | K38: 0 | M38: 0 | O38: 0 | P38: 167860 | Q38: 0 | R38: 0 | S38: 0 | T38: 0 | U38: 0 | V38: 0 | W38: 노임 3 | Y38: B
A39: 5FD1B4E585B1663496ABD7F65444D5A7DBDFD4 | B39: 철공 | C39: 일반공사 직종 | D39: 인 | E39: 0 | G39: 0 | I39: 0 | K39: 0 | M39: 0 | O39: 0 | P39: 146509 | Q39: 0 | R39: 0 | S39: 0 | T39: 0 | U39: 0 | V39: 0 | W39: 노임 4 | Y39: B
A40: 5FD1B4E585B1663496ABD7F65444D5A7DBDE34 | B40: 용접공 | C40: 일반공사 직종 | D40: 인 | E40: 0 | G40: 0 | I40: 0 | K40: 0 | M40: 0 | O40: 0 | P40: 143509 | Q40: 0 | R40: 0 | S40: 0 | T40: 0 | U40: 0 | V40: 0 | W40: 노임 5 | Y40: B
...

Sheet  공사설정 
A1: 이 Sheet는 수정하지 마십시요
A2: 공사구분 | B2: A
A3: 확정내역 | B3: 원내역
A4: 자재단가적용 | B4: 5
A5: 경비단가적용 | B5: 5
A6: 품목코드형식 | B6: XXXX-XXXX-XXXXXXXXX
A7: 내역금액소수점처리 | B7: C | C7: T
A8: 일위대가내역소수점처리 | B8: C | C8: 2
A9: 단가명 | B9: 가격정보 | C9: 거래가격 | D9: 유통물가 | E9: 물가자료 | F9: 조사가격 | G9: TTTTT
A10: 환율 | B10: 1172 | C10: 0 | D10: 0
A11: 시간당작업량 | B11: R | C11: 4
A12: 1회 사이클시간 | B12: R | C12: 4
A13: 시간당 작업사이클 | B13: R | C13: 3
A14: 일반변수 | B14: C | C14: 5
A15: 시간당 노임산출 계수 | B15: A | C15: 1/8*16/12*25/20 | D15: 1/8*16/12*25/20 | E15: 1/8*16/12*25/20 | F15: 1
A16: 재료비 할증 계수 | B16: 1.11 | C16: 1.12
A17: 노무비 할증 계수 | B17: 1 | C17: 1.5 | D17: 1.16 | E17: 1.6 | F17: 1.6 | G17: 1.6 | H17: 1.94 | I17: 1.94 | J17: 1.94 | K17: 1 | L17: 1 | M17: 1
A18: 경비 할증 계수 | B18: 1.25 | C18: 1.071
A19: 내역,일위대가 품명,규격,단위 따로적용
A21: 코드 | B21: 공종구분명 | C21: 원가비목코드
A22: 1 | B22: 작 업 부 산 물 | C22: A3
A23: 2 | B23: 운 반 비 | C23: C1
A24: 3 | B24: 관 급 자 재 비 | C24: DJ
A25: 4 | B25: 사 급 자 재 비 | C25: D3
A26: 5 | B26: 외 자 재
A27: 6 | B27: ...
A28: 7 | B28: ...
A29: 8 | B29: ...
A30: 9 | B30: ...

Sheet Sheet1
